BEGIN:VCALENDAR
VERSION:2.0
PRODID:-//hacksw/handcal//NONSGML v1.0//EN
BEGIN:VEVENT
DTSTART:20180628T140000
DTEND:20180628T170000
LOCATION:EIMParis \n96 rue Orfila, EIMP 1er étage porte gauche \n75020 Paris
ORGANIZER;CN=Coralie BERTRAND:MAILTO:c.bertrand@eimparis.com
SUMMARY:Conférence Monsieur MATILI
DESCRIPTION:L’EIMParis organise une conférence sur le thème de la négociation collective avecMonsieur Matili,Responsable Ressources Humaines ACNA SA,sur la formation de Responsable RH,le Jeudi 28 Juin 2018 de 14h...
URL:https://www.reseau-pro-nextgroup.com/fr/event/conference-monsieur-matili/2018/06/28/16
BEGIN:VALARM
TRIGGER:-P0DT1H0M0S
ACTION:DISPLAY
END:VALARM
END:VEVENT
END:VCALENDAR